BEGIN:VCALENDAR
VERSION:2.0
PRODID:-//Plone.org//NONSGML plone.app.event//EN
X-WR-TIMEZONE:Europe/Berlin
BEGIN:VEVENT
SUMMARY:X-Mas – Club 2 + Grizzly & The Kids
DTSTART;TZID=Europe/Berlin:20121226T210000
DTSTAMP:20260422T171539Z
UID:0ead6c6cc52a4ba281034a1531866bc7@zmi.spielboden.at
CREATED:20121113T091413Z
DESCRIPTION:mit freundlichster Unterstützung vom Landjäger Magazin
LAST-MODIFIED:20121113T140935Z
URL:https://zmi.spielboden.at/Plone/veranstaltungen/2012/12_dezember/club-
 2-grizzly-the-kids
END:VEVENT
BEGIN:VTIMEZONE
TZID:Europe/Berlin
X-LIC-LOCATION:Europe/Berlin
BEGIN:STANDARD
DTSTART:20121028T020000
TZNAME:CET
TZOFFSETFROM:+0200
TZOFFSETTO:+0100
END:STANDARD
END:VTIMEZONE
END:VCALENDAR
