BEGIN:VCALENDAR
VERSION:2.0
PRODID:-//Plone.org//NONSGML plone.app.event//EN
X-WR-TIMEZONE:Europe/Berlin
BEGIN:VEVENT
SUMMARY:Camouflage + Pop & Wave Aftershowparty
DTSTART;TZID=Europe/Berlin:20121201T200000
DTSTAMP:20260422T171221Z
UID:18a2c2287b0741ddb164c69ede581d83@zmi.spielboden.at
CREATED:20121009T071128Z
DESCRIPTION:Gemeinsam mit dem Dornbirner Spielboden ist es uns gelungen\, 
 die deutschen Synthiepop-Ikonen von Camouflage für einen Exklusivauftritt
  in Vorarlberg zu gewinnen.
LAST-MODIFIED:20210809T123807Z
URL:https://zmi.spielboden.at/Plone/veranstaltungen/2012/12_dezember/camou
 flage-pop-wave-afterparty
END:VEVENT
BEGIN:VTIMEZONE
TZID:Europe/Berlin
X-LIC-LOCATION:Europe/Berlin
BEGIN:STANDARD
DTSTART:20121028T020000
TZNAME:CET
TZOFFSETFROM:+0200
TZOFFSETTO:+0100
END:STANDARD
END:VTIMEZONE
END:VCALENDAR
