BEGIN:VCALENDAR
VERSION:2.0
PRODID:-//Plone.org//NONSGML plone.app.event//EN
X-WR-TIMEZONE:Europe/Berlin
BEGIN:VEVENT
SUMMARY:Buchpräsentation – Anna Gruber & Tone Fink
DTSTART;TZID=Europe/Berlin:20121213T190000
DTSTAMP:20260422T172141Z
UID:98f5a3cdc8b44905a9f644c55f6b1914@zmi.spielboden.at
CREATED:20121106T133402Z
LAST-MODIFIED:20210809T124120Z
URL:https://zmi.spielboden.at/Plone/veranstaltungen/2012/12_dezember/buchp
 raesentation-2013-anna-gruber-tone-fink
END:VEVENT
BEGIN:VTIMEZONE
TZID:Europe/Berlin
X-LIC-LOCATION:Europe/Berlin
BEGIN:STANDARD
DTSTART:20121028T020000
TZNAME:CET
TZOFFSETFROM:+0200
TZOFFSETTO:+0100
END:STANDARD
END:VTIMEZONE
END:VCALENDAR
