BEGIN:VCALENDAR
VERSION:2.0
PRODID:-//Plone.org//NONSGML plone.app.event//EN
X-WR-TIMEZONE:Europe/Berlin
BEGIN:VEVENT
SUMMARY:aktionstheater ensemble: Wir gründen eine Partei – Uraufführun
 g
DTSTART;TZID=Europe/Berlin:20121206T203000
DTSTAMP:20260424T170735Z
UID:c1cbacef04c043a6a3237925c34621bc@zmi.spielboden.at
CREATED:20121105T093133Z
LAST-MODIFIED:20210809T125243Z
URL:https://zmi.spielboden.at/Plone/veranstaltungen/2012/12_dezember/aktio
 nstheater-ensemble-wir-gruenden-eine-partei-2013-urauffuehrung
END:VEVENT
BEGIN:VTIMEZONE
TZID:Europe/Berlin
X-LIC-LOCATION:Europe/Berlin
BEGIN:STANDARD
DTSTART:20121028T020000
TZNAME:CET
TZOFFSETFROM:+0200
TZOFFSETTO:+0100
END:STANDARD
END:VTIMEZONE
END:VCALENDAR
