BEGIN:VCALENDAR
VERSION:2.0
PRODID:-//Plone.org//NONSGML plone.app.event//EN
X-WR-TIMEZONE:Europe/Berlin
BEGIN:VEVENT
SUMMARY:X-Mas – Otto Lechner & Klaus Trabitsch & Bethlehem Allstars "Sti
 ll"
DTSTART;TZID=Europe/Berlin:20121211T203000
DTSTAMP:20260422T153415Z
UID:256820da7f6f4464ae84640a6439c64b@zmi.spielboden.at
CREATED:20120822T150147Z
LAST-MODIFIED:20210809T125921Z
URL:https://zmi.spielboden.at/Plone/veranstaltungen/2012/12_dezember/2010-
 12-16-20-30-otto-lechner-klaus-trabitsch-bethlehem-allstars-still
END:VEVENT
BEGIN:VTIMEZONE
TZID:Europe/Berlin
X-LIC-LOCATION:Europe/Berlin
BEGIN:STANDARD
DTSTART:20121028T020000
TZNAME:CET
TZOFFSETFROM:+0200
TZOFFSETTO:+0100
END:STANDARD
END:VTIMEZONE
END:VCALENDAR
