BEGIN:VCALENDAR
VERSION:2.0
PRODID:-//Plone.org//NONSGML plone.app.event//EN
X-WR-TIMEZONE:Europe/Berlin
BEGIN:VEVENT
SUMMARY:Songs&Voices – Esteban's + Klub.Kult.Urknall
DTSTART;TZID=Europe/Berlin:20121102T210000
DTSTAMP:20260422T153217Z
UID:08f761ce9b0c4039aaa6e2963e4c4e85@zmi.spielboden.at
CREATED:20120918T085010Z
LAST-MODIFIED:20210809T123326Z
URL:https://zmi.spielboden.at/Plone/veranstaltungen/2012/11_november/songs
 -voices-2013-esteban-s
END:VEVENT
BEGIN:VTIMEZONE
TZID:Europe/Berlin
X-LIC-LOCATION:Europe/Berlin
BEGIN:STANDARD
DTSTART:20121028T020000
TZNAME:CET
TZOFFSETFROM:+0200
TZOFFSETTO:+0100
END:STANDARD
END:VTIMEZONE
END:VCALENDAR
