BEGIN:VCALENDAR
VERSION:2.0
PRODID:-//Plone.org//NONSGML plone.app.event//EN
X-WR-TIMEZONE:Europe/Berlin
BEGIN:VEVENT
SUMMARY:Rock&Pop – Mauracher
DTSTART;TZID=Europe/Berlin:20121117T210000
DTSTAMP:20260422T153018Z
UID:70ec9e23a7aa4f0bba96c84e03780704@zmi.spielboden.at
CREATED:20120918T090053Z
DESCRIPTION:Album „Super Seven“ – release Oktober 2012
LAST-MODIFIED:20210809T123325Z
URL:https://zmi.spielboden.at/Plone/veranstaltungen/2012/11_november/rock-
 pop-2013-mauracher
END:VEVENT
BEGIN:VTIMEZONE
TZID:Europe/Berlin
X-LIC-LOCATION:Europe/Berlin
BEGIN:STANDARD
DTSTART:20121028T020000
TZNAME:CET
TZOFFSETFROM:+0200
TZOFFSETTO:+0100
END:STANDARD
END:VTIMEZONE
END:VCALENDAR
