BEGIN:VCALENDAR
VERSION:2.0
PRODID:-//Plone.org//NONSGML plone.app.event//EN
X-WR-TIMEZONE:Europe/Berlin
BEGIN:VEVENT
SUMMARY:RatzFatz: Gut geschlafen…?
DTSTART;TZID=Europe/Berlin:20121117T150000
DTSTAMP:20260422T171514Z
UID:2592108bfc5841649c010ef566a08910@zmi.spielboden.at
CREATED:20120910T122303Z
DESCRIPTION:Kinderkonzert ab 4 Jahren
LAST-MODIFIED:20210809T124600Z
URL:https://zmi.spielboden.at/Plone/veranstaltungen/2012/11_november/ratzf
 atz-gut-geschlafen
END:VEVENT
BEGIN:VTIMEZONE
TZID:Europe/Berlin
X-LIC-LOCATION:Europe/Berlin
BEGIN:STANDARD
DTSTART:20121028T020000
TZNAME:CET
TZOFFSETFROM:+0200
TZOFFSETTO:+0100
END:STANDARD
END:VTIMEZONE
END:VCALENDAR
