BEGIN:VCALENDAR
VERSION:2.0
PRODID:-//Plone.org//NONSGML plone.app.event//EN
X-WR-TIMEZONE:Europe/Berlin
BEGIN:VEVENT
SUMMARY:Peter Madsen & CIA play Silent Movies - It
DTSTART;TZID=Europe/Berlin:20121128T203000
DTSTAMP:20260422T153512Z
UID:be3b2b39a17640d6a441d8e430465a18@zmi.spielboden.at
CREATED:20120910T122606Z
DESCRIPTION:Josef von Sternberg – Virtuoses Spiel mit Licht und Schatten
LAST-MODIFIED:20210809T123355Z
URL:https://zmi.spielboden.at/Plone/veranstaltungen/2012/11_november/peter
 -madsen-cia-play-silent-movies-it
END:VEVENT
BEGIN:VTIMEZONE
TZID:Europe/Berlin
X-LIC-LOCATION:Europe/Berlin
BEGIN:STANDARD
DTSTART:20121028T020000
TZNAME:CET
TZOFFSETFROM:+0200
TZOFFSETTO:+0100
END:STANDARD
END:VTIMEZONE
END:VCALENDAR
