BEGIN:VCALENDAR
VERSION:2.0
PRODID:-//Plone.org//NONSGML plone.app.event//EN
X-WR-TIMEZONE:Europe/Berlin
BEGIN:VEVENT
SUMMARY:Miss Valentina
DTSTART;TZID=Europe/Berlin:20121103T210000
DTSTAMP:20260422T185226Z
UID:d7b60f5ae1f24d9ab75f9b1c281909f6@zmi.spielboden.at
CREATED:20120910T122450Z
LAST-MODIFIED:20121009T093806Z
URL:https://zmi.spielboden.at/Plone/veranstaltungen/2012/11_november/miss-
 valentina
END:VEVENT
BEGIN:VTIMEZONE
TZID:Europe/Berlin
X-LIC-LOCATION:Europe/Berlin
BEGIN:STANDARD
DTSTART:20121028T020000
TZNAME:CET
TZOFFSETFROM:+0200
TZOFFSETTO:+0100
END:STANDARD
END:VTIMEZONE
END:VCALENDAR
