BEGIN:VCALENDAR
VERSION:2.0
PRODID:-//Plone.org//NONSGML plone.app.event//EN
X-WR-TIMEZONE:Europe/Berlin
BEGIN:VEVENT
SUMMARY:Kasperletheater
DTSTART;TZID=Europe/Berlin:20121124T150000
DTSTAMP:20260422T171141Z
UID:422aec8a19074290805105f30eb9483b@zmi.spielboden.at
CREATED:20120910T122305Z
DESCRIPTION:Puppentheater ab 4 Jahren
LAST-MODIFIED:20210809T124601Z
URL:https://zmi.spielboden.at/Plone/veranstaltungen/2012/11_november/kaspe
 rletheater
END:VEVENT
BEGIN:VTIMEZONE
TZID:Europe/Berlin
X-LIC-LOCATION:Europe/Berlin
BEGIN:STANDARD
DTSTART:20121028T020000
TZNAME:CET
TZOFFSETFROM:+0200
TZOFFSETTO:+0100
END:STANDARD
END:VTIMEZONE
END:VCALENDAR
