BEGIN:VCALENDAR
VERSION:2.0
PRODID:-//Plone.org//NONSGML plone.app.event//EN
X-WR-TIMEZONE:Europe/Berlin
BEGIN:VEVENT
SUMMARY:Jazz& – Mundo urbano feat. Wolfgang Puschnig & Peter Herbert
DTSTART;TZID=Europe/Berlin:20121116T203000
DTSTAMP:20260422T154643Z
UID:4a89beb4e03e4e1e97e4efb4fa2fc63d@zmi.spielboden.at
CREATED:20120910T122411Z
DESCRIPTION:Die Brasilianer Luis Ribeiro und Luis Leite finden mit alpenl
 ändischer Unterstützung spannende Zugänge zur Musik ihrer Heimat.
LAST-MODIFIED:20210809T125852Z
URL:https://zmi.spielboden.at/Plone/veranstaltungen/2012/11_november/jazz-
 2013-mundo-urbano-feat-wolfgang-puschnig-peter-herbert
END:VEVENT
BEGIN:VTIMEZONE
TZID:Europe/Berlin
X-LIC-LOCATION:Europe/Berlin
BEGIN:STANDARD
DTSTART:20121028T020000
TZNAME:CET
TZOFFSETFROM:+0200
TZOFFSETTO:+0100
END:STANDARD
END:VTIMEZONE
END:VCALENDAR
