BEGIN:VCALENDAR
VERSION:2.0
PRODID:-//Plone.org//NONSGML plone.app.event//EN
X-WR-TIMEZONE:Europe/Berlin
BEGIN:VEVENT
SUMMARY:Jazz& – David Helbock Solo-Piano: Präsentation der neuen CD mit
  Musik von Prince
DTSTART;TZID=Europe/Berlin:20121130T203000
DTSTAMP:20260422T153533Z
UID:11dd9d57e1014e838f831f2eb1d33934@zmi.spielboden.at
CREATED:20120910T122413Z
DESCRIPTION:Der Tastenzauberer und das Pop-Genie – David Helbock spielt 
 Prince.
LAST-MODIFIED:20210809T124609Z
URL:https://zmi.spielboden.at/Plone/veranstaltungen/2012/11_november/jazz-
 2013-david-helbock-solo-piano-prasentation-der-neuen-cd-mit-musik-von-prin
 ce
END:VEVENT
BEGIN:VTIMEZONE
TZID:Europe/Berlin
X-LIC-LOCATION:Europe/Berlin
BEGIN:STANDARD
DTSTART:20121028T020000
TZNAME:CET
TZOFFSETFROM:+0200
TZOFFSETTO:+0100
END:STANDARD
END:VTIMEZONE
END:VCALENDAR
