BEGIN:VCALENDAR
VERSION:2.0
PRODID:-//Plone.org//NONSGML plone.app.event//EN
X-WR-TIMEZONE:Europe/Berlin
BEGIN:VEVENT
SUMMARY:Glauben ist alles!
DTSTART;TZID=Europe/Berlin:20121122T193000
DTSTAMP:20260422T152915Z
UID:9f9216d5172847a6a9622d805852d3e5@zmi.spielboden.at
CREATED:20120918T092311Z
DESCRIPTION:Eine Veranstaltung des Jüdischen Museums Hohenems in Kooperat
 ion mit dem Spielboden Dornbirn.
LAST-MODIFIED:20210809T123326Z
URL:https://zmi.spielboden.at/Plone/veranstaltungen/2012/11_november/glaub
 en-ist-alles
END:VEVENT
BEGIN:VTIMEZONE
TZID:Europe/Berlin
X-LIC-LOCATION:Europe/Berlin
BEGIN:STANDARD
DTSTART:20121028T020000
TZNAME:CET
TZOFFSETFROM:+0200
TZOFFSETTO:+0100
END:STANDARD
END:VTIMEZONE
END:VCALENDAR
