BEGIN:VCALENDAR
VERSION:2.0
PRODID:-//Plone.org//NONSGML plone.app.event//EN
X-WR-TIMEZONE:Europe/Berlin
BEGIN:VEVENT
SUMMARY:The Big Lebowski
DTSTART;TZID=Europe/Berlin:20121120T193000
DTSTAMP:20260422T152830Z
UID:0fcb8c67341e4446b6bbdea908ed5305@zmi.spielboden.at
CREATED:20120918T091621Z
DESCRIPTION:Eine Veranstaltung des Jüdischen Museums Hohenems in Kooperat
 ion mit dem Spielboden Dornbirn.
LAST-MODIFIED:20210809T123327Z
URL:https://zmi.spielboden.at/Plone/veranstaltungen/2012/11_november/copy_
 of_the-big-lebowski
END:VEVENT
BEGIN:VTIMEZONE
TZID:Europe/Berlin
X-LIC-LOCATION:Europe/Berlin
BEGIN:STANDARD
DTSTART:20121028T020000
TZNAME:CET
TZOFFSETFROM:+0200
TZOFFSETTO:+0100
END:STANDARD
END:VTIMEZONE
END:VCALENDAR
