BEGIN:VCALENDAR
VERSION:2.0
PRODID:-//Plone.org//NONSGML plone.app.event//EN
X-WR-TIMEZONE:Europe/Berlin
BEGIN:VEVENT
SUMMARY:FLAMENCO – 3 x 1 = Flamenco
DTSTART;TZID=Europe/Berlin:20121110T203000
DTSTAMP:20260422T153516Z
UID:c54e86a64c5f4cf397d28a5c0c8597f7@zmi.spielboden.at
CREATED:20120914T150416Z
LAST-MODIFIED:20210809T123352Z
URL:https://zmi.spielboden.at/Plone/veranstaltungen/2012/11_november/copy_
 of_tanz-ist-flamenco-11-tablao
END:VEVENT
BEGIN:VTIMEZONE
TZID:Europe/Berlin
X-LIC-LOCATION:Europe/Berlin
BEGIN:STANDARD
DTSTART:20121028T020000
TZNAME:CET
TZOFFSETFROM:+0200
TZOFFSETTO:+0100
END:STANDARD
END:VTIMEZONE
END:VCALENDAR
