BEGIN:VCALENDAR
VERSION:2.0
PRODID:-//Plone.org//NONSGML plone.app.event//EN
X-WR-TIMEZONE:Europe/Berlin
BEGIN:VEVENT
SUMMARY:Mama illegal
DTSTART;TZID=Europe/Berlin:20121129T203000
DTSTAMP:20260424T140416Z
UID:0cef34dbe20c40e295611fdb7d1b5583@zmi.spielboden.at
CREATED:20121002T072455Z
DESCRIPTION:Regie: Eduard Moschitz\, A 2012\, 94 min\, OmU\n\n
LAST-MODIFIED:20210809T125917Z
URL:https://zmi.spielboden.at/Plone/veranstaltungen/2012/11_november/copy_
 of_mama-illegal
END:VEVENT
BEGIN:VTIMEZONE
TZID:Europe/Berlin
X-LIC-LOCATION:Europe/Berlin
BEGIN:STANDARD
DTSTART:20121028T020000
TZNAME:CET
TZOFFSETFROM:+0200
TZOFFSETTO:+0100
END:STANDARD
END:VTIMEZONE
END:VCALENDAR
