BEGIN:VCALENDAR
VERSION:2.0
PRODID:-//Plone.org//NONSGML plone.app.event//EN
X-WR-TIMEZONE:Europe/Berlin
BEGIN:VEVENT
SUMMARY:Evolution der Gewalt
DTSTART;TZID=Europe/Berlin:20121127T203000
DTSTAMP:20260424T154519Z
UID:934ae252a226455d9b6237b49cdb6f5b@zmi.spielboden.at
CREATED:20120918T090743Z
DESCRIPTION:Regie: Fritz Ofner\, A 2011\, 77 min\, OmU
LAST-MODIFIED:20210809T124121Z
URL:https://zmi.spielboden.at/Plone/veranstaltungen/2012/11_november/copy_
 of_evolution-der-gewalt
END:VEVENT
BEGIN:VTIMEZONE
TZID:Europe/Berlin
X-LIC-LOCATION:Europe/Berlin
BEGIN:STANDARD
DTSTART:20121028T020000
TZNAME:CET
TZOFFSETFROM:+0200
TZOFFSETTO:+0100
END:STANDARD
END:VTIMEZONE
END:VCALENDAR
