BEGIN:VCALENDAR
VERSION:2.0
PRODID:-//Plone.org//NONSGML plone.app.event//EN
X-WR-TIMEZONE:Europe/Berlin
BEGIN:VEVENT
SUMMARY:FLAMENCO – Flamenco intern
DTSTART;TZID=Europe/Berlin:20121108T200000
DTSTAMP:20260422T153516Z
UID:c960daa0f53f432aa8d9c68560c83618@zmi.spielboden.at
CREATED:20120914T150416Z
LAST-MODIFIED:20210809T125852Z
URL:https://zmi.spielboden.at/Plone/veranstaltungen/2012/11_november/copy3
 _of_tanz-ist-flamenco-11-tablao
END:VEVENT
BEGIN:VTIMEZONE
TZID:Europe/Berlin
X-LIC-LOCATION:Europe/Berlin
BEGIN:STANDARD
DTSTART:20121028T020000
TZNAME:CET
TZOFFSETFROM:+0200
TZOFFSETTO:+0100
END:STANDARD
END:VTIMEZONE
END:VCALENDAR
