BEGIN:VCALENDAR
VERSION:2.0
PRODID:-//Plone.org//NONSGML plone.app.event//EN
X-WR-TIMEZONE:Europe/Berlin
BEGIN:VEVENT
SUMMARY:FLAMENCO – Masterclasses mit Juan Carlos Lérida
DTSTART;TZID=Europe/Berlin:20121109T183000
DTSTAMP:20260422T153415Z
UID:bbe03b2ed6c04b3bae776e8bcc914bfa@zmi.spielboden.at
CREATED:20120914T150416Z
LAST-MODIFIED:20210809T124558Z
URL:https://zmi.spielboden.at/Plone/veranstaltungen/2012/11_november/copy2
 _of_tanz-ist-flamenco-11-tablao
END:VEVENT
BEGIN:VTIMEZONE
TZID:Europe/Berlin
X-LIC-LOCATION:Europe/Berlin
BEGIN:STANDARD
DTSTART:20121028T020000
TZNAME:CET
TZOFFSETFROM:+0200
TZOFFSETTO:+0100
END:STANDARD
END:VTIMEZONE
END:VCALENDAR
