BEGIN:VCALENDAR
VERSION:2.0
PRODID:-//Plone.org//NONSGML plone.app.event//EN
X-WR-TIMEZONE:Europe/Berlin
BEGIN:VEVENT
SUMMARY:Spielbodenchor – Wie im Himmel so in Vorarlberg
DTSTART;TZID=Europe/Berlin:20121127T203000
DTSTAMP:20260422T172125Z
UID:2766490833b64f39a0c279b302c2dcc7@zmi.spielboden.at
CREATED:20121004T071847Z
DESCRIPTION:Spielbodenchor-Produktion
LAST-MODIFIED:20210809T123448Z
URL:https://zmi.spielboden.at/Plone/veranstaltungen/2012/11_november/copy2
 _of_spielbodenchor-2013-wie-im-himmel-so-in-vorarlberg
END:VEVENT
BEGIN:VTIMEZONE
TZID:Europe/Berlin
X-LIC-LOCATION:Europe/Berlin
BEGIN:STANDARD
DTSTART:20121028T020000
TZNAME:CET
TZOFFSETFROM:+0200
TZOFFSETTO:+0100
END:STANDARD
END:VTIMEZONE
END:VCALENDAR
