BEGIN:VCALENDAR
VERSION:2.0
PRODID:-//Plone.org//NONSGML plone.app.event//EN
X-WR-TIMEZONE:Europe/Berlin
BEGIN:VEVENT
SUMMARY:Ernährung betrifft uns alle! – LoveMEATender
DTSTART;TZID=Europe/Berlin:20121123T203000
DTSTAMP:20260422T153225Z
UID:a24bb0cac99b41e09537d9ac41ebf55d@zmi.spielboden.at
CREATED:20120912T154758Z
DESCRIPTION:In Zusammenarbeit mit Bio Austria.
LAST-MODIFIED:20210809T124558Z
URL:https://zmi.spielboden.at/Plone/veranstaltungen/2012/11_november/copy2
 _of_projekte-der-hoffnung-wangari-maathai-sekem
END:VEVENT
BEGIN:VTIMEZONE
TZID:Europe/Berlin
X-LIC-LOCATION:Europe/Berlin
BEGIN:STANDARD
DTSTART:20121028T020000
TZNAME:CET
TZOFFSETFROM:+0200
TZOFFSETTO:+0100
END:STANDARD
END:VTIMEZONE
END:VCALENDAR
