BEGIN:VCALENDAR
VERSION:2.0
PRODID:-//Plone.org//NONSGML plone.app.event//EN
X-WR-TIMEZONE:Europe/Berlin
BEGIN:VEVENT
SUMMARY:Rock&Pop – Big John Bates + Support: Laser Mutants
DTSTART;TZID=Europe/Berlin:20121114T210000
DTSTAMP:20260422T170946Z
UID:4eb1f12dadb64f8584350db5c97ad02a@zmi.spielboden.at
CREATED:20120918T083735Z
DESCRIPTION:Support: Laser Mutants\n
LAST-MODIFIED:20210809T125855Z
URL:https://zmi.spielboden.at/Plone/veranstaltungen/2012/11_november/big-j
 ohn-bates
END:VEVENT
BEGIN:VTIMEZONE
TZID:Europe/Berlin
X-LIC-LOCATION:Europe/Berlin
BEGIN:STANDARD
DTSTART:20121028T020000
TZNAME:CET
TZOFFSETFROM:+0200
TZOFFSETTO:+0100
END:STANDARD
END:VTIMEZONE
END:VCALENDAR
