BEGIN:VCALENDAR
VERSION:2.0
PRODID:-//Plone.org//NONSGML plone.app.event//EN
X-WR-TIMEZONE:Europe/Berlin
BEGIN:VEVENT
SUMMARY:Wazz-up (Vermietung)
DTSTART;TZID=Europe/Berlin:20121010T200000
DTSTAMP:20260422T153120Z
UID:684a4315c5d04a3395b177a0a2cdeae3@zmi.spielboden.at
CREATED:20120910T122432Z
LAST-MODIFIED:20210809T125851Z
URL:https://zmi.spielboden.at/Plone/veranstaltungen/2012/10_oktober/wazz-u
 p-vermietung
END:VEVENT
BEGIN:VTIMEZONE
TZID:Europe/Berlin
X-LIC-LOCATION:Europe/Berlin
BEGIN:DAYLIGHT
DTSTART:20120325T030000
TZNAME:CEST
TZOFFSETFROM:+0100
TZOFFSETTO:+0200
END:DAYLIGHT
END:VTIMEZONE
END:VCALENDAR
