BEGIN:VCALENDAR
VERSION:2.0
PRODID:-//Plone.org//NONSGML plone.app.event//EN
X-WR-TIMEZONE:Europe/Berlin
BEGIN:VEVENT
SUMMARY:Sofa Surfers
DTSTART;TZID=Europe/Berlin:20121011T210000
DTSTAMP:20260422T152634Z
UID:930e6fa606354e7bbaa238f9d31e56dc@zmi.spielboden.at
CREATED:20120910T122613Z
DESCRIPTION:Neues Album: Superluminal
LAST-MODIFIED:20210809T123355Z
URL:https://zmi.spielboden.at/Plone/veranstaltungen/2012/10_oktober/sofa-s
 urfers
END:VEVENT
BEGIN:VTIMEZONE
TZID:Europe/Berlin
X-LIC-LOCATION:Europe/Berlin
BEGIN:DAYLIGHT
DTSTART:20120325T030000
TZNAME:CEST
TZOFFSETFROM:+0100
TZOFFSETTO:+0200
END:DAYLIGHT
END:VTIMEZONE
END:VCALENDAR
