BEGIN:VCALENDAR
VERSION:2.0
PRODID:-//Plone.org//NONSGML plone.app.event//EN
X-WR-TIMEZONE:Europe/Berlin
BEGIN:VEVENT
SUMMARY:Randgruppenmusik
DTSTART;TZID=Europe/Berlin:20121027T210000
DTSTAMP:20260422T171711Z
UID:9258f2ec9d9d49e4b9e6e48109d77b60@zmi.spielboden.at
CREATED:20120914T144238Z
LAST-MODIFIED:20210809T123352Z
URL:https://zmi.spielboden.at/Plone/veranstaltungen/2012/10_oktober/randgr
 uppenmusik
END:VEVENT
BEGIN:VTIMEZONE
TZID:Europe/Berlin
X-LIC-LOCATION:Europe/Berlin
BEGIN:DAYLIGHT
DTSTART:20120325T030000
TZNAME:CEST
TZOFFSETFROM:+0100
TZOFFSETTO:+0200
END:DAYLIGHT
END:VTIMEZONE
END:VCALENDAR
