BEGIN:VCALENDAR
VERSION:2.0
PRODID:-//Plone.org//NONSGML plone.app.event//EN
X-WR-TIMEZONE:Europe/Berlin
BEGIN:VEVENT
SUMMARY:Peter Madsen & CIA play Silent Movies – Underworld
DTSTART;TZID=Europe/Berlin:20121017T203000
DTSTAMP:20260422T153536Z
UID:614626ad29f944559127d77de52f0e5a@zmi.spielboden.at
CREATED:20120910T122907Z
DESCRIPTION:Josef von Sternberg – Virtuoses Spiel mit Licht und Schatten
LAST-MODIFIED:20210809T123405Z
URL:https://zmi.spielboden.at/Plone/veranstaltungen/2012/10_oktober/peter-
 madsen-cia-play-silent-movies-2013-underworld
END:VEVENT
BEGIN:VTIMEZONE
TZID:Europe/Berlin
X-LIC-LOCATION:Europe/Berlin
BEGIN:DAYLIGHT
DTSTART:20120325T030000
TZNAME:CEST
TZOFFSETFROM:+0100
TZOFFSETTO:+0200
END:DAYLIGHT
END:VTIMEZONE
END:VCALENDAR
