BEGIN:VCALENDAR
VERSION:2.0
PRODID:-//Plone.org//NONSGML plone.app.event//EN
X-WR-TIMEZONE:Europe/Berlin
BEGIN:VEVENT
SUMMARY:Neue Spielräume – Sonja Puntscher-Riekmann
DTSTART;TZID=Europe/Berlin:20121002T193000
DTSTAMP:20260422T153346Z
UID:f32acb71ef924de9851bd482c8d3a963@zmi.spielboden.at
CREATED:20120910T122343Z
DESCRIPTION:Ist die Euro-Rettung demokratisch?
LAST-MODIFIED:20210809T123447Z
URL:https://zmi.spielboden.at/Plone/veranstaltungen/2012/10_oktober/neue-s
 pielraume-sonja-puntscher-riekmann
END:VEVENT
BEGIN:VTIMEZONE
TZID:Europe/Berlin
X-LIC-LOCATION:Europe/Berlin
BEGIN:DAYLIGHT
DTSTART:20120325T030000
TZNAME:CEST
TZOFFSETFROM:+0100
TZOFFSETTO:+0200
END:DAYLIGHT
END:VTIMEZONE
END:VCALENDAR
