BEGIN:VCALENDAR
VERSION:2.0
PRODID:-//Plone.org//NONSGML plone.app.event//EN
X-WR-TIMEZONE:Europe/Berlin
BEGIN:VEVENT
SUMMARY:Neue Spielräume – Ruth Moser
DTSTART;TZID=Europe/Berlin:20121121T193000
DTSTAMP:20260422T171711Z
UID:5d58dd7a7fd44b75a5f1e3c8aefb88e7@zmi.spielboden.at
CREATED:20120917T090802Z
DESCRIPTION:Mehr Partizipation\, bessere Zukunft – Neue Wege in Vorarlbe
 rg
LAST-MODIFIED:20210809T124619Z
URL:https://zmi.spielboden.at/Plone/veranstaltungen/2012/10_oktober/neue-s
 pielraeume-2013-ruth-moser
END:VEVENT
BEGIN:VTIMEZONE
TZID:Europe/Berlin
X-LIC-LOCATION:Europe/Berlin
BEGIN:STANDARD
DTSTART:20121028T020000
TZNAME:CET
TZOFFSETFROM:+0200
TZOFFSETTO:+0100
END:STANDARD
END:VTIMEZONE
END:VCALENDAR
