BEGIN:VCALENDAR
VERSION:2.0
PRODID:-//Plone.org//NONSGML plone.app.event//EN
X-WR-TIMEZONE:Europe/Berlin
BEGIN:VEVENT
SUMMARY:Global Underground Music presented by: Soul Brigada & KOGA
DTSTART;TZID=Europe/Berlin:20121006T210000
DTSTAMP:20260422T153024Z
UID:d8d9545a0bc74950ad296acf9ec6eec5@zmi.spielboden.at
CREATED:20120910T122244Z
DESCRIPTION:with Guest DJ-Set by HP | DUBBEN (Berlin) 
LAST-MODIFIED:20210809T123447Z
URL:https://zmi.spielboden.at/Plone/veranstaltungen/2012/10_oktober/klub-k
 ult-urknall
END:VEVENT
BEGIN:VTIMEZONE
TZID:Europe/Berlin
X-LIC-LOCATION:Europe/Berlin
BEGIN:DAYLIGHT
DTSTART:20120325T030000
TZNAME:CEST
TZOFFSETFROM:+0100
TZOFFSETTO:+0200
END:DAYLIGHT
END:VTIMEZONE
END:VCALENDAR
