BEGIN:VCALENDAR
VERSION:2.0
PRODID:-//Plone.org//NONSGML plone.app.event//EN
X-WR-TIMEZONE:Europe/Berlin
BEGIN:VEVENT
SUMMARY:Kindertheater Trittbrettl – Das Kroko dicke Dil
DTSTART;TZID=Europe/Berlin:20121020T150000
DTSTAMP:20260422T171524Z
UID:3b6af7e66e094d4380caecf7c7c45bbd@zmi.spielboden.at
CREATED:20120910T122935Z
DESCRIPTION:Puppentheater mit Musik ab 4 Jahren 
LAST-MODIFIED:20210809T123407Z
URL:https://zmi.spielboden.at/Plone/veranstaltungen/2012/10_oktober/kinder
 theater-trittbrettl-2013-das-kroko-dicke-dil
END:VEVENT
BEGIN:VTIMEZONE
TZID:Europe/Berlin
X-LIC-LOCATION:Europe/Berlin
BEGIN:DAYLIGHT
DTSTART:20120325T030000
TZNAME:CEST
TZOFFSETFROM:+0100
TZOFFSETTO:+0200
END:DAYLIGHT
END:VTIMEZONE
END:VCALENDAR
