BEGIN:VCALENDAR
VERSION:2.0
PRODID:-//Plone.org//NONSGML plone.app.event//EN
X-WR-TIMEZONE:Europe/Berlin
BEGIN:VEVENT
SUMMARY:Kasperletheater
DTSTART;TZID=Europe/Berlin:20121006T150000
DTSTAMP:20260422T171221Z
UID:44bbb436456f4b91ac87a34659c7bbf6@zmi.spielboden.at
CREATED:20120910T122442Z
LAST-MODIFIED:20210809T124612Z
URL:https://zmi.spielboden.at/Plone/veranstaltungen/2012/10_oktober/kasper
 letheater
END:VEVENT
BEGIN:VTIMEZONE
TZID:Europe/Berlin
X-LIC-LOCATION:Europe/Berlin
BEGIN:DAYLIGHT
DTSTART:20120325T030000
TZNAME:CEST
TZOFFSETFROM:+0100
TZOFFSETTO:+0200
END:DAYLIGHT
END:VTIMEZONE
END:VCALENDAR
