BEGIN:VCALENDAR
VERSION:2.0
PRODID:-//Plone.org//NONSGML plone.app.event//EN
X-WR-TIMEZONE:Europe/Berlin
BEGIN:VEVENT
SUMMARY:Teatro Caprile – Jura Soyfer Revue
DTSTART;TZID=Europe/Berlin:20121018T203000
DTSTAMP:20260422T153221Z
UID:a0486bc6d0724a6387d6bdbe8aa15665@zmi.spielboden.at
CREATED:20120910T122405Z
DESCRIPTION:In Zusammenarbeit mit der IG-Kultur Vorarlberg und dem Jüdisc
 hen Museum Hohenems.
LAST-MODIFIED:20210809T124609Z
URL:https://zmi.spielboden.at/Plone/veranstaltungen/2012/10_oktober/jura-s
 oyfer-revue
END:VEVENT
BEGIN:VTIMEZONE
TZID:Europe/Berlin
X-LIC-LOCATION:Europe/Berlin
BEGIN:DAYLIGHT
DTSTART:20120325T030000
TZNAME:CEST
TZOFFSETFROM:+0100
TZOFFSETTO:+0200
END:DAYLIGHT
END:VTIMEZONE
END:VCALENDAR
