BEGIN:VCALENDAR
VERSION:2.0
PRODID:-//Plone.org//NONSGML plone.app.event//EN
X-WR-TIMEZONE:Europe/Berlin
BEGIN:VEVENT
SUMMARY:Jazz& – Theo Bleckmann: Hello Earth! The Music of Kate Bush
DTSTART;TZID=Europe/Berlin:20121005T203000
DTSTAMP:20260422T153627Z
UID:79adb689c8184b98a7b02ff8fcbb1a81@zmi.spielboden.at
CREATED:20120910T122355Z
DESCRIPTION:Der eigenwillige Jazzvokalist schafft mit einer New Yorker Top
 -Band brillante Neuinterpretationen der Songs der Pop-Exzentrikerin.
LAST-MODIFIED:20210809T123352Z
URL:https://zmi.spielboden.at/Plone/veranstaltungen/2012/10_oktober/jazz-2
 013-theo-bleckmann-hello-earth-the-music-of-kate-bush
END:VEVENT
BEGIN:VTIMEZONE
TZID:Europe/Berlin
X-LIC-LOCATION:Europe/Berlin
BEGIN:DAYLIGHT
DTSTART:20120325T030000
TZNAME:CEST
TZOFFSETFROM:+0100
TZOFFSETTO:+0200
END:DAYLIGHT
END:VTIMEZONE
END:VCALENDAR
