BEGIN:VCALENDAR
VERSION:2.0
PRODID:-//Plone.org//NONSGML plone.app.event//EN
X-WR-TIMEZONE:Europe/Berlin
BEGIN:VEVENT
SUMMARY:Jazz& – The Fonda/Stevens Group: „20 Years“ Live-CD-Produkti
 on
DTSTART;TZID=Europe/Berlin:20121020T203000
DTSTAMP:20260422T153538Z
UID:0e106b8dae0c4d4fb16bccdc97578899@zmi.spielboden.at
CREATED:20120910T122308Z
DESCRIPTION:Die Evergreens unter den amerikanischen Jazz-Avantgardisten fe
 iern ihr Band-Jubiläum mit einer CD-Produktion am Spielboden.
LAST-MODIFIED:20210809T124601Z
URL:https://zmi.spielboden.at/Plone/veranstaltungen/2012/10_oktober/jazz-2
 013-the-fonda-stevens-group-201e20-years201c-live-cd-produktion
END:VEVENT
BEGIN:VTIMEZONE
TZID:Europe/Berlin
X-LIC-LOCATION:Europe/Berlin
BEGIN:DAYLIGHT
DTSTART:20120325T030000
TZNAME:CEST
TZOFFSETFROM:+0100
TZOFFSETTO:+0200
END:DAYLIGHT
END:VTIMEZONE
END:VCALENDAR
