BEGIN:VCALENDAR
VERSION:2.0
PRODID:-//Plone.org//NONSGML plone.app.event//EN
X-WR-TIMEZONE:Europe/Berlin
BEGIN:VEVENT
SUMMARY:Jazz& – Stephanie Nilles: „Fuck off Grizzly Bear“
DTSTART;TZID=Europe/Berlin:20121031T203000
DTSTAMP:20260422T171539Z
UID:72e5828fb957499299c7097e3fd42a42@zmi.spielboden.at
CREATED:20120910T123006Z
DESCRIPTION:Die wagemutige und unorthodoxe Pianistin/Sängerin aus New Orl
 eans präsentiert ihre ironisch-schrägen Songperlen erstmals in Österrei
 ch.
LAST-MODIFIED:20210809T123409Z
URL:https://zmi.spielboden.at/Plone/veranstaltungen/2012/10_oktober/jazz-2
 013-stephanie-nilles-201efuck-off-grizzly-bear201c
END:VEVENT
BEGIN:VTIMEZONE
TZID:Europe/Berlin
X-LIC-LOCATION:Europe/Berlin
BEGIN:STANDARD
DTSTART:20121028T020000
TZNAME:CET
TZOFFSETFROM:+0200
TZOFFSETTO:+0100
END:STANDARD
END:VTIMEZONE
END:VCALENDAR
