BEGIN:VCALENDAR
VERSION:2.0
PRODID:-//Plone.org//NONSGML plone.app.event//EN
X-WR-TIMEZONE:Europe/Berlin
BEGIN:VEVENT
SUMMARY:Jam on Poetry
DTSTART;TZID=Europe/Berlin:20121018T200000
DTSTAMP:20260422T173811Z
UID:9cc9970152784242bc80aa393d709430@zmi.spielboden.at
CREATED:20120910T122433Z
LAST-MODIFIED:20120912T152945Z
URL:https://zmi.spielboden.at/Plone/veranstaltungen/2012/10_oktober/jam-on
 -poetry
END:VEVENT
BEGIN:VTIMEZONE
TZID:Europe/Berlin
X-LIC-LOCATION:Europe/Berlin
BEGIN:DAYLIGHT
DTSTART:20120325T030000
TZNAME:CEST
TZOFFSETFROM:+0100
TZOFFSETTO:+0200
END:DAYLIGHT
END:VTIMEZONE
END:VCALENDAR
