BEGIN:VCALENDAR
VERSION:2.0
PRODID:-//Plone.org//NONSGML plone.app.event//EN
X-WR-TIMEZONE:Europe/Berlin
BEGIN:VEVENT
SUMMARY:I ♥ Disco
DTSTART;TZID=Europe/Berlin:20121019T210000
DTSTAMP:20260422T152634Z
UID:1be3b68ace8c4096bd74309adf3e3a46@zmi.spielboden.at
CREATED:20120910T122710Z
LAST-MODIFIED:20210809T124558Z
URL:https://zmi.spielboden.at/Plone/veranstaltungen/2012/10_oktober/i-2665
 -disco
END:VEVENT
BEGIN:VTIMEZONE
TZID:Europe/Berlin
X-LIC-LOCATION:Europe/Berlin
BEGIN:DAYLIGHT
DTSTART:20120325T030000
TZNAME:CEST
TZOFFSETFROM:+0100
TZOFFSETTO:+0200
END:DAYLIGHT
END:VTIMEZONE
END:VCALENDAR
