BEGIN:VCALENDAR
VERSION:2.0
PRODID:-//Plone.org//NONSGML plone.app.event//EN
X-WR-TIMEZONE:Europe/Berlin
BEGIN:VEVENT
SUMMARY:Die Wiesenberger
DTSTART;TZID=Europe/Berlin:20121002T203000
DTSTAMP:20260422T152823Z
UID:cbfd20cf23c44048920efccf05109f17@zmi.spielboden.at
CREATED:20120910T122344Z
DESCRIPTION:Regie: B. Weber & M. Schilt\, CH 2012\, 90 min\, OmU
LAST-MODIFIED:20210809T123447Z
URL:https://zmi.spielboden.at/Plone/veranstaltungen/2012/10_oktober/die-wi
 esenberger
END:VEVENT
BEGIN:VTIMEZONE
TZID:Europe/Berlin
X-LIC-LOCATION:Europe/Berlin
BEGIN:DAYLIGHT
DTSTART:20120325T030000
TZNAME:CEST
TZOFFSETFROM:+0100
TZOFFSETTO:+0200
END:DAYLIGHT
END:VTIMEZONE
END:VCALENDAR
