BEGIN:VCALENDAR
VERSION:2.0
PRODID:-//Plone.org//NONSGML plone.app.event//EN
X-WR-TIMEZONE:Europe/Berlin
BEGIN:VEVENT
SUMMARY:Projekte der Hoffnung – Die Ökonomie des Glücks
DTSTART;TZID=Europe/Berlin:20121020T203000
DTSTAMP:20260424T153136Z
UID:b024e8b6abbf48be9917cbf18f4557f1@zmi.spielboden.at
CREATED:20120912T154758Z
DESCRIPTION:\n
LAST-MODIFIED:20210809T123352Z
URL:https://zmi.spielboden.at/Plone/veranstaltungen/2012/10_oktober/copy_o
 f_projekte-der-hoffnung-wangari-maathai-sekem
END:VEVENT
BEGIN:VTIMEZONE
TZID:Europe/Berlin
X-LIC-LOCATION:Europe/Berlin
BEGIN:DAYLIGHT
DTSTART:20120325T030000
TZNAME:CEST
TZOFFSETFROM:+0100
TZOFFSETTO:+0200
END:DAYLIGHT
END:VTIMEZONE
END:VCALENDAR
