BEGIN:VCALENDAR
VERSION:2.0
PRODID:-//Plone.org//NONSGML plone.app.event//EN
X-WR-TIMEZONE:Europe/Berlin
BEGIN:VEVENT
SUMMARY:Neue Spielräume – Heinz Gärtner
DTSTART;TZID=Europe/Berlin:20121017T193000
DTSTAMP:20260422T171539Z
UID:d455ee37700c4515851b71630496b2c3@zmi.spielboden.at
CREATED:20120910T122343Z
DESCRIPTION:Wahlen in den USA: Nationale demokratische Gepflogenheiten und
  ihre globalen Auswirkungen
LAST-MODIFIED:20210809T125851Z
URL:https://zmi.spielboden.at/Plone/veranstaltungen/2012/10_oktober/copy_o
 f_neue-spielraume-sonja-puntscher-riekmann
END:VEVENT
BEGIN:VTIMEZONE
TZID:Europe/Berlin
X-LIC-LOCATION:Europe/Berlin
BEGIN:DAYLIGHT
DTSTART:20120325T030000
TZNAME:CEST
TZOFFSETFROM:+0100
TZOFFSETTO:+0200
END:DAYLIGHT
END:VTIMEZONE
END:VCALENDAR
