BEGIN:VCALENDAR
VERSION:2.0
PRODID:-//Plone.org//NONSGML plone.app.event//EN
X-WR-TIMEZONE:Europe/Berlin
BEGIN:VEVENT
SUMMARY:Neue Spielräume – American Passages
DTSTART;TZID=Europe/Berlin:20121010T203000
DTSTAMP:20260422T153021Z
UID:105ea63731e2462cb53618f1947212ce@zmi.spielboden.at
CREATED:20120910T122418Z
DESCRIPTION:Im Rahmen der Neuen Spielräume – Betrachtungen zur Demokrat
 ischen Welt
LAST-MODIFIED:20210809T124610Z
URL:https://zmi.spielboden.at/Plone/veranstaltungen/2012/10_oktober/copy_o
 f_american-passages
END:VEVENT
BEGIN:VTIMEZONE
TZID:Europe/Berlin
X-LIC-LOCATION:Europe/Berlin
BEGIN:DAYLIGHT
DTSTART:20120325T030000
TZNAME:CEST
TZOFFSETFROM:+0100
TZOFFSETTO:+0200
END:DAYLIGHT
END:VTIMEZONE
END:VCALENDAR
