BEGIN:VCALENDAR
VERSION:2.0
PRODID:-//Plone.org//NONSGML plone.app.event//EN
X-WR-TIMEZONE:Europe/Berlin
BEGIN:VEVENT
SUMMARY:Ernährung betrifft uns alle! – LoveMEATender
DTSTART;TZID=Europe/Berlin:20121023T203000
DTSTAMP:20260424T123116Z
UID:86bbf6927cd34deb90339cfed6c96872@zmi.spielboden.at
CREATED:20120912T154758Z
DESCRIPTION:In Zusammenarbeit mit Bio Austria.
LAST-MODIFIED:20210809T123352Z
URL:https://zmi.spielboden.at/Plone/veranstaltungen/2012/10_oktober/copy2_
 of_projekte-der-hoffnung-wangari-maathai-sekem
END:VEVENT
BEGIN:VTIMEZONE
TZID:Europe/Berlin
X-LIC-LOCATION:Europe/Berlin
BEGIN:DAYLIGHT
DTSTART:20120325T030000
TZNAME:CEST
TZOFFSETFROM:+0100
TZOFFSETTO:+0200
END:DAYLIGHT
END:VTIMEZONE
END:VCALENDAR
