BEGIN:VCALENDAR
VERSION:2.0
PRODID:-//Plone.org//NONSGML plone.app.event//EN
X-WR-TIMEZONE:Europe/Berlin
BEGIN:VEVENT
SUMMARY:Dichter und Kämpfer: Das Leben als Poetry Slammer in Deutschland
DTSTART;TZID=Europe/Berlin:20121024T203000
DTSTAMP:20260422T172309Z
UID:0890b3b234814d789c9d29f274606073@zmi.spielboden.at
CREATED:20120910T123000Z
DESCRIPTION:Dokumentation\, Deutschland 2012\, 89 min.\, dt. Fassung\nRegi
 e: Marion Hütter\nDarstellerInnen: Julius Fischer\, Theresa Hahl\, Sebast
 ian 23\, Philipp Scharrenberg
LAST-MODIFIED:20210809T123447Z
URL:https://zmi.spielboden.at/Plone/veranstaltungen/2012/10_oktober/copy2_
 of_dichter-und-kampfer-das-leben-als-poetry-slammer-in-deutschland
END:VEVENT
BEGIN:VTIMEZONE
TZID:Europe/Berlin
X-LIC-LOCATION:Europe/Berlin
BEGIN:DAYLIGHT
DTSTART:20120325T030000
TZNAME:CEST
TZOFFSETFROM:+0100
TZOFFSETTO:+0200
END:DAYLIGHT
END:VTIMEZONE
END:VCALENDAR
