BEGIN:VCALENDAR
VERSION:2.0
PRODID:-//Plone.org//NONSGML plone.app.event//EN
X-WR-TIMEZONE:Europe/Berlin
BEGIN:VEVENT
SUMMARY:Captain's Dinner mit Wolfgang Fiel
DTSTART;TZID=Europe/Berlin:20121030T190000
DTSTAMP:20260422T171527Z
UID:ff2ad3b562aa49e491d3da5d4e894f8b@zmi.spielboden.at
CREATED:20120910T123010Z
LAST-MODIFIED:20210809T123409Z
URL:https://zmi.spielboden.at/Plone/veranstaltungen/2012/10_oktober/captai
 n2019s-dinner-mit-wolfgang-fiel
END:VEVENT
BEGIN:VTIMEZONE
TZID:Europe/Berlin
X-LIC-LOCATION:Europe/Berlin
BEGIN:STANDARD
DTSTART:20121028T020000
TZNAME:CET
TZOFFSETFROM:+0200
TZOFFSETTO:+0100
END:STANDARD
END:VTIMEZONE
END:VCALENDAR
