BEGIN:VCALENDAR
VERSION:2.0
PRODID:-//Plone.org//NONSGML plone.app.event//EN
X-WR-TIMEZONE:Europe/Berlin
BEGIN:VEVENT
SUMMARY:5th Scottish Folk Night: Daimh\, Anna Massie & Mairearad Green\, E
 mily Smith
DTSTART;TZID=Europe/Berlin:20121004T203000
DTSTAMP:20260422T153512Z
UID:a83b3785464c43dfbc93364e949f9900@zmi.spielboden.at
CREATED:20120910T122340Z
LAST-MODIFIED:20210809T124605Z
URL:https://zmi.spielboden.at/Plone/veranstaltungen/2012/10_oktober/5th-sc
 ottish-folk-night-daimh-anna-massie-mairearad-green-emily-smith
END:VEVENT
BEGIN:VTIMEZONE
TZID:Europe/Berlin
X-LIC-LOCATION:Europe/Berlin
BEGIN:DAYLIGHT
DTSTART:20120325T030000
TZNAME:CEST
TZOFFSETFROM:+0100
TZOFFSETTO:+0200
END:DAYLIGHT
END:VTIMEZONE
END:VCALENDAR
