BEGIN:VCALENDAR
VERSION:2.0
PRODID:-//Plone.org//NONSGML plone.app.event//EN
X-WR-TIMEZONE:Europe/Berlin
BEGIN:VEVENT
SUMMARY:Depeche Mode and more Party (Vermietung)
DTSTART;TZID=Europe/Berlin:20121013T200000
DTSTAMP:20260422T153232Z
UID:e7d0f7903020439aa3d9cf1b0e075125@zmi.spielboden.at
CREATED:20120910T122615Z
LAST-MODIFIED:20210809T123355Z
URL:https://zmi.spielboden.at/Plone/veranstaltungen/2012/10_oktober/2011-0
 4-16-20-00-depeche-mode-and-more-party
END:VEVENT
BEGIN:VTIMEZONE
TZID:Europe/Berlin
X-LIC-LOCATION:Europe/Berlin
BEGIN:DAYLIGHT
DTSTART:20120325T030000
TZNAME:CEST
TZOFFSETFROM:+0100
TZOFFSETTO:+0200
END:DAYLIGHT
END:VTIMEZONE
END:VCALENDAR
