BEGIN:VCALENDAR
VERSION:2.0
PRODID:-//Plone.org//NONSGML plone.app.event//EN
X-WR-TIMEZONE:Europe/Berlin
BEGIN:VEVENT
SUMMARY:Neue Spielräume – Work Hard – Play Hard
DTSTART;TZID=Europe/Berlin:20120925T203000
DTSTAMP:20260422T170946Z
UID:d22a31f5d7884c35a6c080f7194edd09@zmi.spielboden.at
CREATED:20120910T122940Z
DESCRIPTION:Im Rahmen der Neuen Spielräume – Betrachtungen zur Demokrat
 ischen Welt
LAST-MODIFIED:20210809T123407Z
URL:https://zmi.spielboden.at/Plone/veranstaltungen/2012/09_september/work
 -hard-2013-play-hard
END:VEVENT
BEGIN:VTIMEZONE
TZID:Europe/Berlin
X-LIC-LOCATION:Europe/Berlin
BEGIN:DAYLIGHT
DTSTART:20120325T030000
TZNAME:CEST
TZOFFSETFROM:+0100
TZOFFSETTO:+0200
END:DAYLIGHT
END:VTIMEZONE
END:VCALENDAR
