BEGIN:VCALENDAR
VERSION:2.0
PRODID:-//Plone.org//NONSGML plone.app.event//EN
X-WR-TIMEZONE:Europe/Berlin
BEGIN:VEVENT
SUMMARY:Global Sounds – The Dusa Orchestra: CD Release „Four Brothers
 “
DTSTART;TZID=Europe/Berlin:20120915T203000
DTSTAMP:20260422T153218Z
UID:55bd470532c5459398bf540ca42f54ec@zmi.spielboden.at
CREATED:20120910T122550Z
LAST-MODIFIED:20210809T123354Z
URL:https://zmi.spielboden.at/Plone/veranstaltungen/2012/09_september/the-
 dusa-orchestra-2013-cd-release-201efour-brothers201c
END:VEVENT
BEGIN:VTIMEZONE
TZID:Europe/Berlin
X-LIC-LOCATION:Europe/Berlin
BEGIN:DAYLIGHT
DTSTART:20120325T030000
TZNAME:CEST
TZOFFSETFROM:+0100
TZOFFSETTO:+0200
END:DAYLIGHT
END:VTIMEZONE
END:VCALENDAR
