BEGIN:VCALENDAR
VERSION:2.0
PRODID:-//Plone.org//NONSGML plone.app.event//EN
X-WR-TIMEZONE:Europe/Berlin
BEGIN:VEVENT
SUMMARY:Rock&Pop – RTFM feat. Albert Lingg\, Blue Monday Blues Band\, Sp
 ecial Guest: Stator
DTSTART;TZID=Europe/Berlin:20120921T203000
DTSTAMP:20260422T153320Z
UID:f562b5b6edcc4c5eb5a8978f0b79db39@zmi.spielboden.at
CREATED:20120910T122430Z
DESCRIPTION:25 Jahre Blue Monday Blues Band – 50 Jahre Rolling Stones
LAST-MODIFIED:20210809T124611Z
URL:https://zmi.spielboden.at/Plone/veranstaltungen/2012/09_september/rtfm
 -feat-albert-lingg-blue-monay-blues-band-special-guest-stator
END:VEVENT
BEGIN:VTIMEZONE
TZID:Europe/Berlin
X-LIC-LOCATION:Europe/Berlin
BEGIN:DAYLIGHT
DTSTART:20120325T030000
TZNAME:CEST
TZOFFSETFROM:+0100
TZOFFSETTO:+0200
END:DAYLIGHT
END:VTIMEZONE
END:VCALENDAR
